BEGIN:VCALENDAR
VERSION:2.0
PRODID:-//Peacemaker-Gemeinschaft Deutschland - ECPv6.9.0//NONSGML v1.0//EN
CALSCALE:GREGORIAN
METHOD:PUBLISH
X-ORIGINAL-URL:https://zen-peacemakergemeinschaft.de
X-WR-CALDESC:Veranstaltungen für Peacemaker-Gemeinschaft Deutschland
REFRESH-INTERVAL;VALUE=DURATION:PT1H
X-Robots-Tag:noindex
X-PUBLISHED-TTL:PT1H
BEGIN:VTIMEZONE
TZID:Europe/Berlin
BEGIN:DAYLIGHT
TZOFFSETFROM:+0100
TZOFFSETTO:+0200
TZNAME:CEST
DTSTART:20210328T010000
END:DAYLIGHT
BEGIN:STANDARD
TZOFFSETFROM:+0200
TZOFFSETTO:+0100
TZNAME:CET
DTSTART:20211031T010000
END:STANDARD
END:VTIMEZONE
BEGIN:VEVENT
DTSTART;TZID=Europe/Berlin:20210926T180000
DTEND;TZID=Europe/Berlin:20210926T210000
DTSTAMP:20260422T214812
CREATED:20210903T085310Z
LAST-MODIFIED:20210919T144817Z
UID:1547-1632679200-1632690000@zen-peacemakergemeinschaft.de
SUMMARY:Leben und handeln in ökologischen Krisenzeiten
DESCRIPTION: Ein dialogischer online-Workshop für ökologisch engagierte Praktizierende\nam Sonntag\, 26. September\, 18-21 Uhr\nmit David Loy und Roshi Pat Enkyo O’Hara \n\nveranstaltet von Peace!makerGemeinschaft Deutschland e.V. und Village Zendo New York in Kooperation mit dem Rocky Mountain Ecodharma Center\, unterstützt von ZenPeacemakers International.\n(in englischer Sprache mit deutschsprachigen Council-Gruppen)\nDer Klimawandel und die weitreichenderen ökologischen Krisen werden uns für den Rest unseres Lebens begleiten. Das kann sich überwältigend und entmutigend anfühlen. Dennoch – wir können viel tun\, um den Schaden für uns und die zukünftigen Generationen zu mindern\, wenn wir weiter aktiv sind. \nWie leben und praktizieren wir mit dem Wissen\, dass es schlimmer wird? Und wie bilden wir die Zuversicht und Resilienz\, trotzdem zu handeln? \nDieser Workshop ist gedacht für ökologisch engagierte Praktizierende\, die sich wünschen\, \n\ntiefer zu verstehen\, was ÖkoDharma anzubieten hat\,\nmit anderen buddhistisch Praktizierenden und/oder Öko-Aktivisti in Kontakt zu kommen und ihr Netzwerk zu erweitern\,\nIdeen zum Umgang mit der Situation und zum Handeln in ihrem Alltag zu bekommen und zu teilen.\n\nDie Teilnahme ist frei. Wir freuen uns aber sehr über Spenden (Richtwerte: zwischen 20 und 108 Euro; gerne natürlich auch mehr).\nDie Links zu den Organisationen\, die für Deine Spende dankbar sind\, findest Du weiter unten am Ende der englischsprachigen Ankündigung.\nZum Anmelden bitte dieses Formblatt ausfüllen:\nhttps://docs.google.com/forms/d/1YvFO55RZBJvsSN9bODET1sWWp_csbBqkdR6QiMmlB_I/edit\nUm gut miteinander arbeiten zu können\, ist die TeilnehmendenZahl begrenzt. Falls Du dich anmeldest und doch nicht kommen kannst\, lass es uns deshalb bitte wissen\, damit wir Deinen Platz weitergeben können.\n\nWenn du vorab noch etwas wissen möchtest\, melde dich bei kathleen@zen-peacemakergemeinschaft.de\n\n\nA Dialogue and Workshop for Ecologically Engaged Practitioners\nWith David Loy and Roshi Pat Enkyo O’Hara\nSunday\, September 26th \n11 am – 2 pm U.S. EDT\, 18 – 21 pm CEST \n\nCo-sponsored by:\nThe Village Zendo\, Rocky Mountain Ecodharma Retreat Center\, Peace!makerGemeinschaft Deutschland e.V.\, The Buddist Action Coalition \n\n\n\nClimate change and the wider ecological crisis will be with all of us for the rest of our lives. That can feel overwhelming and discouraging. Yet much can be done to lessen the harm to us and future generations if we continue to act.\n\nHow do we live and practice with the knowledge that things will get worse?And how do we build the confidence and resilience still to act? \n\nThis gathering is for ecologically engaged practitioners who want to\n\nDeepen their insight into what EcoDharma offers\nConnect with other Buddhist practitioners / Eco-activists to broaden the network\nGet and share ideas for coping strategies as well as action in their everyday life\n\nTo register\, please complete this form:\nhttps://docs.google.com/forms/d/1YvFO55RZBJvsSN9bODET1sWWp_csbBqkdR6QiMmlB_I/edit\n\nRegistration will be capped to allow for a collaborative atmosphere so please let us know if your plans change and you can’t make it.\nThis event is free. Donations are very welcome.\nSuggested donation of $20 – $108\, sliding scale\, to your choice of:\n\nRocky Mountain Ecodharma Retreat Center\nhttps://rmerc.org/donate-online/\nThe Village Zendo\nhttps://villagezendo.org/support-us/\nPeace!Maker Gemeinschaft Deutschland e.V.\nhttps://zen-peacemakergemeinschaft.de/wir/verein/\n\nFor any questions\, please contact Chad Doshin DeChant\, at Village Zendo: doshin@villagezendo.org\, \noder KathleenHoêtsu Battke kathleen@zen-peacemakergemeinschaft.de
URL:https://zen-peacemakergemeinschaft.de/event/2021-09-26_leben-und-handeln-in-oekologischen-krisenzeiten/
LOCATION:Zoom
CATEGORIES:ÖkoSattva,online-Vortrag/Workshop
ORGANIZER;CN="PeacemakerGemeinschaft Deutschland e.V.":MAILTO:kontakt@zen-peacemakergemeinschaft.de
END:VEVENT
END:VCALENDAR