BEGIN:VCALENDAR
VERSION:2.0
PRODID:-//Peacemaker-Gemeinschaft Deutschland - ECPv6.9.0//NONSGML v1.0//EN
CALSCALE:GREGORIAN
METHOD:PUBLISH
X-ORIGINAL-URL:https://zen-peacemakergemeinschaft.de
X-WR-CALDESC:Veranstaltungen für Peacemaker-Gemeinschaft Deutschland
REFRESH-INTERVAL;VALUE=DURATION:PT1H
X-Robots-Tag:noindex
X-PUBLISHED-TTL:PT1H
BEGIN:VTIMEZONE
TZID:Europe/Berlin
BEGIN:DAYLIGHT
TZOFFSETFROM:+0100
TZOFFSETTO:+0200
TZNAME:CEST
DTSTART:20210328T010000
END:DAYLIGHT
BEGIN:STANDARD
TZOFFSETFROM:+0200
TZOFFSETTO:+0100
TZNAME:CET
DTSTART:20211031T010000
END:STANDARD
END:VTIMEZONE
BEGIN:VEVENT
DTSTART;TZID=Europe/Berlin:20211009T160000
DTEND;TZID=Europe/Berlin:20211011T120000
DTSTAMP:20260423T004016
CREATED:20201016T132908Z
LAST-MODIFIED:20210911T212257Z
UID:1080-1633795200-1633953600@zen-peacemakergemeinschaft.de
SUMMARY:Jahrestreffen der Peacemaker-Gemeinschaft 2021
DESCRIPTION:Wir setzen die schöne Tradition eines jährlichen Zusammenkommens der Peacemaker in Deutschland auch im Jahr 2021 fort. In den vergangenen Jahren haben Zusammenkünfte in Berlin\, Bonn\, Detmold und Würzburg stattgefunden\, meist Pfingsten. Im Jahr 2020 haben wir uns erstmals im Haus Engl getroffen. \nIm Jahr 2021 wollen wir uns wieder im Haus Engl treffen. Wir wählen den 9. bis 11. Oktober (Sa-Mo)\, weil das die Tage vor dem jährlichen ZenPeacemaker-Retreat sind\, welches vom 11. bis 16. Oktober stattfindet. So kann\, wer mag\, an beidem teilnehmen. \nWir werden gemeinsam praktizieren\, Projekte initiieren und voranbringen\, Praktisches besprechen\, eine gute Zeit miteinander haben und so die Sangha stärken. Und wir unterstützen das Team des Engl handfest dabei\, die folgende Retreat-Woche vorzubereiten. \nDie Kosten beschränken sich voraussichtlich auf Unterkunft und Verpflegung; näheres bald hier. \nBitte schreibe uns eine E-Mail\, wenn du dabei sein möchtest bzw. noch Fragen hast.
URL:https://zen-peacemakergemeinschaft.de/event/jahrestreffen-der-peacemaker-gemeinschaft-2021/
LOCATION:Seminarhaus Engl\, Engl 1\, Unterdietfurt\, Bayern\, 84339\, Deutschland
CATEGORIES:Kreisgespräch,Meditationen,ÖkoSattva,Retreat
ORGANIZER;CN="PeacemakerGemeinschaft Deutschland e.V.":MAILTO:kontakt@zen-peacemakergemeinschaft.de
END:VEVENT
END:VCALENDAR