BEGIN:VCALENDAR
VERSION:2.0
PRODID:-//Peacemaker-Gemeinschaft Deutschland - ECPv6.9.0//NONSGML v1.0//EN
CALSCALE:GREGORIAN
METHOD:PUBLISH
X-ORIGINAL-URL:https://zen-peacemakergemeinschaft.de
X-WR-CALDESC:Veranstaltungen für Peacemaker-Gemeinschaft Deutschland
REFRESH-INTERVAL;VALUE=DURATION:PT1H
X-Robots-Tag:noindex
X-PUBLISHED-TTL:PT1H
BEGIN:VTIMEZONE
TZID:Europe/Berlin
BEGIN:DAYLIGHT
TZOFFSETFROM:+0100
TZOFFSETTO:+0200
TZNAME:CEST
DTSTART:20210328T010000
END:DAYLIGHT
BEGIN:STANDARD
TZOFFSETFROM:+0200
TZOFFSETTO:+0100
TZNAME:CET
DTSTART:20211031T010000
END:STANDARD
END:VTIMEZONE
BEGIN:VEVENT
DTSTART;TZID=Europe/Berlin:20211011T180000
DTEND;TZID=Europe/Berlin:20211016T140000
DTSTAMP:20260423T053908
CREATED:20200927T120652Z
LAST-MODIFIED:20210217T012047Z
UID:1070-1633975200-1634392800@zen-peacemakergemeinschaft.de
SUMMARY:Retreat: Die 5 Buddha-Familien
DESCRIPTION:Mit diesem Retreat werden wir Erfahrungen mit den fünf Buddha-Familien machen und unsere Praxis vertiefen. Daneben werden wir Stille\, geführte Meditationen und Kreisgespräche üben. Der Kurs ist offen für Neueinsteigende in die Meditation. \n\n\n\nHonorar:\nDana (auf freiwilliger Basis) \n\n\n\n\n\n\nKursgebühr:\n80 € \n\n\n\n\n\n\nUnterkunft und Verpflegung:\n200 €\, Aufpreis bei Einzelzimmer \n\n\n\n\n\n\nLeitung:\nRoshi Barbara Salaam Wegmüller \n\n\n\n\n\n\nBarbara Salaam Wegmüller wurde von Roshi Bernie Glassman ermächtigt als Zen Meisterin. Roshi Eve Myonen Marko gab ihr Transmission zur Gelübdelehrerin in der Linie der Zen Peacemakers. Barbara ist verheiratet und Mutter von fünf erwachsenen Kindern und Großmutter von drei Enkelkindern. \nWebsite:\nWebseite Barbara Salaam Wegmüller \nPiet Essens\, geb. 1955\, Den Helder\, Holland. Langjähriger Mitarbeiter im Seminarhaus Engl.
URL:https://zen-peacemakergemeinschaft.de/event/2021-10_die-5-buddha-familien-zen-peacemaker-retreat/
LOCATION:Seminarhaus Engl\, Engl 1\, Unterdietfurt\, Bayern\, 84339\, Deutschland
CATEGORIES:Retreat
ORGANIZER;CN="Seminarhaus Engl e. V.":MAILTO:info@seminarhaus-engl.de
END:VEVENT
END:VCALENDAR