BEGIN:VCALENDAR
VERSION:2.0
PRODID:-//Peacemaker-Gemeinschaft Deutschland - ECPv6.9.0//NONSGML v1.0//EN
CALSCALE:GREGORIAN
METHOD:PUBLISH
X-WR-CALNAME:Peacemaker-Gemeinschaft Deutschland
X-ORIGINAL-URL:https://zen-peacemakergemeinschaft.de
X-WR-CALDESC:Veranstaltungen für Peacemaker-Gemeinschaft Deutschland
REFRESH-INTERVAL;VALUE=DURATION:PT1H
X-Robots-Tag:noindex
X-PUBLISHED-TTL:PT1H
BEGIN:VTIMEZONE
TZID:Europe/Berlin
BEGIN:DAYLIGHT
TZOFFSETFROM:+0100
TZOFFSETTO:+0200
TZNAME:CEST
DTSTART:20210328T010000
END:DAYLIGHT
BEGIN:STANDARD
TZOFFSETFROM:+0200
TZOFFSETTO:+0100
TZNAME:CET
DTSTART:20211031T010000
END:STANDARD
END:VTIMEZONE
BEGIN:VEVENT
DTSTART;VALUE=DATE:20211031
DTEND;VALUE=DATE:20211107
DTSTAMP:20260425T214139
CREATED:20210911T210739Z
LAST-MODIFIED:20210912T123622Z
UID:1576-1635638400-1636243199@zen-peacemakergemeinschaft.de
SUMMARY:ZenPeacemakers International Retreat in Auschwitz-Birkenau (in englischer Sprache)
DESCRIPTION:…Most of each day is spent sitting by the train tracks at Birkenau\, both in silence and in chanting the names of the dead. We walk through the vast camps\, perform vigils and memorial services inside the women’s\, men’s\, and children’s barracks. Participants meet daily in small Council groups designed to create a safe place for people to share their inner experiences\, and evening programs are specifically designed to address the needs of the whole. \nMore information —-> https://hive.zenpeacemakers.org/networks/events/27530
URL:https://zen-peacemakergemeinschaft.de/event/2021-10-31-zenpeacemakers-international-retreat-in-auschwitz-birkenau/
LOCATION:Auschwitz-Birkenau\, Polen
CATEGORIES:Kreisgespräch,Meditationen,Retreat
END:VEVENT
BEGIN:VEVENT
DTSTART;TZID=Europe/Berlin:20211106T163000
DTEND;TZID=Europe/Berlin:20211106T183000
DTSTAMP:20260425T214139
CREATED:20210911T201949Z
LAST-MODIFIED:20211024T141207Z
UID:1569-1636216200-1636223400@zen-peacemakergemeinschaft.de
SUMMARY:Monatstreffen (online) mit Meditation und Kreisgespräch
DESCRIPTION:Wir laden für Samstag\, den 06.11.2021\, wieder zu unserem monatlichen Treffen mit Meditation und Kreisgespräch ein. Um 16:30 Uhr beginnen wir mit einer kurzen gemeinsamen Einstimmungsmeditation. Danach starten wir den Austausch zwischen den Teilnehmern. In mehreren Runden teilen wir miteinander unsere Gedanken und Gefühle. Thematisch streifen wir hierbei unsere inneren Themen der Praxis\, aber auch unsere äußeren Kernthemen ökologische Verantwortung  und soziales Engagement. Um 18:30 Uhr verabschieden wir uns nach einem Moment der Stille voneinander. \nBitte melde Dich bis spätestens 12 Uhr am Tag des Monatstreffens per Mail an online-council@zen-peacemakergemeinschaft.de an. \nAm Tag des Monatstreffens richte Dir rechtzeitig einen guten Platz ein\, an dem Du die gemeinsame Zeit angenehm und ungestört verbringen kannst (z.B. ohne Telefonanrufe\, eingehende Nachrichten\, Signaltöne\, laute Musik). Wenn Du magst\, stelle eine Kerze und/oder ein Räucherstäbchen bereit und bringe ein „Rede-Stück“ mit. \nUnsere Meditation ist eine stille Atemmeditation. Und unser Kreisgespräch (Council) folgt den folgenden Grundprinzipien: Ich höre mit dem Herzen zu  *  Ich spreche von Herzen  *  Ich spreche wesentlich (= so lange wie nötig\, so kurz wie möglich) und aus dem Moment (= ohne vorher zurecht gelegte Worte)  *  Ich bleibe bei mir (= kein Diskutieren\, Kommentieren\, Belehren anderer oder ihrer Beiträge)  *  Ich lasse Gehörtes und Gesagtes in diesem Kreis\, in diesem Raum (= Vertraulichkeit wahren).
URL:https://zen-peacemakergemeinschaft.de/event/2021-11-06_monatstreffen/
CATEGORIES:Kreisgespräch,Meditationen,Monatstreffen
ORGANIZER;CN="PeacemakerGemeinschaft Deutschland e.V.":MAILTO:kontakt@zen-peacemakergemeinschaft.de
END:VEVENT
END:VCALENDAR