BEGIN:VCALENDAR
VERSION:2.0
PRODID:-//Peacemaker-Gemeinschaft Deutschland - ECPv6.9.0//NONSGML v1.0//EN
CALSCALE:GREGORIAN
METHOD:PUBLISH
X-WR-CALNAME:Peacemaker-Gemeinschaft Deutschland
X-ORIGINAL-URL:https://zen-peacemakergemeinschaft.de
X-WR-CALDESC:Veranstaltungen für Peacemaker-Gemeinschaft Deutschland
REFRESH-INTERVAL;VALUE=DURATION:PT1H
X-Robots-Tag:noindex
X-PUBLISHED-TTL:PT1H
BEGIN:VTIMEZONE
TZID:Europe/Berlin
BEGIN:DAYLIGHT
TZOFFSETFROM:+0100
TZOFFSETTO:+0200
TZNAME:CEST
DTSTART:20210328T010000
END:DAYLIGHT
BEGIN:STANDARD
TZOFFSETFROM:+0200
TZOFFSETTO:+0100
TZNAME:CET
DTSTART:20211031T010000
END:STANDARD
END:VTIMEZONE
BEGIN:VEVENT
DTSTART;TZID=Europe/Berlin:20211210T170000
DTEND;TZID=Europe/Berlin:20211210T190000
DTSTAMP:20260426T000611
CREATED:20211123T184755Z
LAST-MODIFIED:20211215T213509Z
UID:1727-1639155600-1639162800@zen-peacemakergemeinschaft.de
SUMMARY:Workshop-Reihe zum Buch „Erwachen im Alltag. Koans\, die das Leben schreibt“
DESCRIPTION:Ich stolpere\, ich weiß nicht weiter… ich bin ganz da.\nAufwachen an den Bruchstellen des täglichen Lebens\nonline Workshop-Reihe zum Buch „Erwachen im Alltag. Koans\, die das Leben schreibt“\nvon Eve Myonen Marko und Wendy Egyoku Nakao\, edition steinrich 2021\nZum GegenwärtigSein im eigenen Leben lädt dieses neue Buch mit AlltagsKoans ein: Ganz da in jedem Moment. Auch und vor allem da\, wo wir zu scheitern scheinen; wo „es“ ( = unser Plan vom Leben) nicht funktioniert.\nKoan-Praxis findet traditionell zwischen Lehrer*in und Schüler*in unter vier Augen statt. Eine weitere Dimension tut sich auf\, wenn wir in der Gruppe mit Fragen des Lebens arbeiten: \nAus dem Nicht-Wissen lesen und sprechen\, uns unserer eigenen Erfahrung und der der anderen Anwesenden öffnen\, hören und gehört werden – all dies kann die Weisheit des Kreises\, die Schwarm-Intelligenz freisetzen. Indem wir unseren Alltag und den der anderen bewusst und liebevoll bezeugen\, praktizieren wir mit diesem Buch zweier wunderbarer Zen-Lehrerinnen und mit unseren eigenen Lebens-„Rätseln“.\nDie Reihe ist geeignet für alle\, die\n– sich mit diesem Buch und den berührten Themen auseinandersetzen wollen\,\n– ihren eigenen aktuellen Lebens-Fragen und -Rätseln in einem aufmerksamen Zeug*innenkreis auf die Spur zu kommen trachten\,\n– ihr Gewahrsein an den Bruchstellen des Lebens ver􀆟efen möchten. \nDie Reihe hat sechs Termine\, die im Abstand von einem Monat auf Zoom stattfinden. \nBausteine der einzelnen Treffen:\nStille Meditation\, Impuls-Beiträge\, Lektüre aus dem Buch\, Austausch im Kreisgespräch;\nggfs. kurze Schreib-Phasen und Körper-Übungen. \nDiese Infos\, alle Termine und weitere Details hier zum Herunterladen:  WorkshopReihe zu ERWACHEN IM ALLTAG
URL:https://zen-peacemakergemeinschaft.de/event/workshop-reihe-zum-buch-erwachen-im-alltag-koans-die-das-leben-schreibt/
LOCATION:Zoom
CATEGORIES:Kreisgespräch,online-Vortrag/Workshop,Themenbezogenes Event
END:VEVENT
END:VCALENDAR