BEGIN:VCALENDAR
VERSION:2.0
PRODID:-//Peacemaker-Gemeinschaft Deutschland - ECPv6.9.0//NONSGML v1.0//EN
CALSCALE:GREGORIAN
METHOD:PUBLISH
X-ORIGINAL-URL:https://zen-peacemakergemeinschaft.de
X-WR-CALDESC:Veranstaltungen für Peacemaker-Gemeinschaft Deutschland
REFRESH-INTERVAL;VALUE=DURATION:PT1H
X-Robots-Tag:noindex
X-PUBLISHED-TTL:PT1H
BEGIN:VTIMEZONE
TZID:Europe/Berlin
BEGIN:DAYLIGHT
TZOFFSETFROM:+0100
TZOFFSETTO:+0200
TZNAME:CEST
DTSTART:20210328T010000
END:DAYLIGHT
BEGIN:STANDARD
TZOFFSETFROM:+0200
TZOFFSETTO:+0100
TZNAME:CET
DTSTART:20211031T010000
END:STANDARD
END:VTIMEZONE
BEGIN:VEVENT
DTSTART;TZID=Europe/Berlin:20211211T163000
DTEND;TZID=Europe/Berlin:20211211T183000
DTSTAMP:20260426T012306
CREATED:20210911T204348Z
LAST-MODIFIED:20211117T212143Z
UID:1573-1639240200-1639247400@zen-peacemakergemeinschaft.de
SUMMARY:Monatstreffen (online) mit Meditation und Kreisgespräch
DESCRIPTION:Wir laden für Samstag\, den 11.12.2021\, wieder zu unserem monatlichen Treffen mit Meditation und Kreisgespräch ein. Um 16:30 Uhr beginnen wir mit einer kurzen gemeinsamen Einstimmungsmeditation. Danach starten wir den Austausch zwischen den Teilnehmern. In mehreren Runden teilen wir miteinander unsere Gedanken und Gefühle. Thematisch streifen wir hierbei unsere inneren Themen der Praxis\, aber auch unsere äußeren Kernthemen ökologische Verantwortung  und soziales Engagement. Um 18:30 Uhr verabschieden wir uns nach einem Moment der Stille voneinander. \nBitte melde Dich bis spätestens 12 Uhr am Tag des Monatstreffens per Mail an online-council@zen-peacemakergemeinschaft.de an. \nAm Tag des Monatstreffens richte Dir rechtzeitig einen guten Platz ein\, an dem Du die gemeinsame Zeit angenehm und ungestört verbringen kannst (z.B. ohne Telefonanrufe\, eingehende Nachrichten\, Signaltöne\, laute Musik). Wenn Du magst\, stelle eine Kerze und/oder ein Räucherstäbchen bereit und bringe ein „Rede-Stück“ mit. \nUnsere Meditation ist eine stille Atemmeditation. Und unser Kreisgespräch folgt den folgenden Grundprinzipien: \nGrundprinzipien: Ich höre mit dem Herzen zu  *  Ich spreche von Herzen  *  Ich spreche wesentlich (= so lange wie nötig\, so kurz wie möglich) und aus dem Moment (= ohne vorher zurecht gelegte Worte)  *  Ich bleibe bei mir (= kein Diskutieren\, Kommentieren\, Belehren anderer oder ihrer Beiträge)  *  Ich lasse Gehörtes und Gesagtes in diesem Kreis\, in diesem Raum (= Vertraulichkeit wahren).
URL:https://zen-peacemakergemeinschaft.de/event/2021-12-11_monatstreffen/
CATEGORIES:Kreisgespräch,Meditationen,Monatstreffen
ORGANIZER;CN="PeacemakerGemeinschaft Deutschland e.V.":MAILTO:kontakt@zen-peacemakergemeinschaft.de
END:VEVENT
END:VCALENDAR