BEGIN:VCALENDAR
VERSION:2.0
PRODID:-//Peacemaker-Gemeinschaft Deutschland - ECPv6.9.0//NONSGML v1.0//EN
CALSCALE:GREGORIAN
METHOD:PUBLISH
X-ORIGINAL-URL:https://zen-peacemakergemeinschaft.de
X-WR-CALDESC:Veranstaltungen für Peacemaker-Gemeinschaft Deutschland
REFRESH-INTERVAL;VALUE=DURATION:PT1H
X-Robots-Tag:noindex
X-PUBLISHED-TTL:PT1H
BEGIN:VTIMEZONE
TZID:Europe/Berlin
BEGIN:DAYLIGHT
TZOFFSETFROM:+0100
TZOFFSETTO:+0200
TZNAME:CEST
DTSTART:20250330T010000
END:DAYLIGHT
BEGIN:STANDARD
TZOFFSETFROM:+0200
TZOFFSETTO:+0100
TZNAME:CET
DTSTART:20251026T010000
END:STANDARD
END:VTIMEZONE
BEGIN:VEVENT
DTSTART;TZID=Europe/Berlin:20250213T190000
DTEND;TZID=Europe/Berlin:20250522T210000
DTSTAMP:20260423T222328
CREATED:20250113T195313Z
LAST-MODIFIED:20250113T195313Z
UID:3032-1739473200-1747947600@zen-peacemakergemeinschaft.de
SUMMARY:Online-Kursreihe "Sieben Friedens-Lektionen - Neurosensitive Achtsamkeit als Friedensübung"\, 13.02.-22.05.2025
DESCRIPTION:8-teilige Kursreihe mit Dorle Lommatzsch und Reiner Seido Hühner\, online über Zoom an der Buddhistischen Akademie Berlin-Brandenburg\nMit großer Freude sehen wir\, Dorle und ich\, dem 2. Durchgang des Online-Kurses „Sieben Friedens-Lektionen – Neurosensitive Achtsamkeit als Friedensübung“ entgegen.\nDie erste Reihe im Frühjahr 2024 hat eine unerwartet positive Resonanz hervorgerufen\, so dass wir uns im Einvernehmen mit der Akademie entschieden haben\, die Reihe nochmals in die Welt zu bringen. \n \nAlle Informationen findet ihr hier: Sieben Friedens-Lektionen \nEs sind noch Plätze frei\, zudem wird es einen Einführungsvortrag geben am 30. Januar2025\, siehe hier: Einführungsvortrag 30.01.2025\n \nHerzlich 🕊️\nDorle und Reiner
URL:https://zen-peacemakergemeinschaft.de/event/online-kursreihe-sieben-friedens-lektionen-neurosensitive-achtsamkeit-als-friedensuebung-13-02-22-05-2025/
LOCATION:Zoom
CATEGORIES:Friedens-Übung,online-Vortrag/Workshop
END:VEVENT
BEGIN:VEVENT
DTSTART;TZID=Europe/Berlin:20250321T150000
DTEND;TZID=Europe/Berlin:20250321T163000
DTSTAMP:20260423T222328
CREATED:20250318T184049Z
LAST-MODIFIED:20250318T184139Z
UID:3117-1742569200-1742574600@zen-peacemakergemeinschaft.de
SUMMARY:meditativer Spaziergang am Tag des Waldes
DESCRIPTION:Am Freitag 21.3. ist UN-Tag des Waldes. An vielen Orten des Landes und der Welt (derzeit beteiligt: 18 Länder) gehen Menschen an diesem Tag im Wald spazieren und spannen so ein globales Netz der Achtsamkeit mit ihren sanften Füßen. \nIn Bonn nehmen einige von uns daran teil (zb Reiner und Kathleen): \nAm Freitag treffen wir uns um 15 Uhr (etwas früher da sein ist gut) vor dem Haus der Natur an der Waldau für einen 1\,5stündigen Spaziergang. \nAnfahrt mit dem Bus 602 vom Bonner Hauptbahnhof z.B. um 14:17 oder 14:35. \nKommen und FreundInnen mitbringen! 🌳💚 \n 
URL:https://zen-peacemakergemeinschaft.de/event/meditativer-spaziergang-am-tag-des-waldes/
LOCATION:Haus der Natur\, An der Waldau 50\, Bonn
CATEGORIES:Geh-Meditation,ÖkoSattva
ATTACH;FMTTYPE=image/jpeg:https://zen-peacemakergemeinschaft.de/wp-content/uploads/2024/11/Lemniskate-Friedhof-Merten.jpg
END:VEVENT
END:VCALENDAR