BEGIN:VCALENDAR
VERSION:2.0
PRODID:-//Peacemaker-Gemeinschaft Deutschland - ECPv6.9.0//NONSGML v1.0//EN
CALSCALE:GREGORIAN
METHOD:PUBLISH
X-WR-CALNAME:Peacemaker-Gemeinschaft Deutschland
X-ORIGINAL-URL:https://zen-peacemakergemeinschaft.de
X-WR-CALDESC:Veranstaltungen für Peacemaker-Gemeinschaft Deutschland
REFRESH-INTERVAL;VALUE=DURATION:PT1H
X-Robots-Tag:noindex
X-PUBLISHED-TTL:PT1H
BEGIN:VTIMEZONE
TZID:Europe/Berlin
BEGIN:DAYLIGHT
TZOFFSETFROM:+0100
TZOFFSETTO:+0200
TZNAME:CEST
DTSTART:20260329T010000
END:DAYLIGHT
BEGIN:STANDARD
TZOFFSETFROM:+0200
TZOFFSETTO:+0100
TZNAME:CET
DTSTART:20261025T010000
END:STANDARD
END:VTIMEZONE
BEGIN:VEVENT
DTSTART;VALUE=DATE:20260320
DTEND;VALUE=DATE:20261212
DTSTAMP:20260419T210006
CREATED:20251231T155946Z
LAST-MODIFIED:20260217T164950Z
UID:3408-1773964800-1797033599@zen-peacemakergemeinschaft.de
SUMMARY:Alltag an dich und mich: AUFWACHEN! - AlltagsKoans-Kurs\, Zyklus 6
DESCRIPTION:Im März startet ein nächster online-Zyklus rund um das Buch „Erwachen im Alltag: Koans\, die das Leben schreibt“. \nWir üben im virtuellen Kreis auf Augenhöhe Koan-Praxis mit Fragen und Erlebnissen aus unserem Alltag. \nMonatliche Treffen von knapp 2 Stunden; 10 Termine. \n2026_AlltagsKoans_WorkshopReihe6 Einladung \nDie Anmeldung ist eröffnet. Bei Interesse hier melden: kathleen@zen-peacemakergemeinschaft.de
URL:https://zen-peacemakergemeinschaft.de/event/alltagskoans-zyklus-6/
LOCATION:Zoom
CATEGORIES:online-Vortrag/Workshop,Studium
ATTACH;FMTTYPE=image/jpeg:https://zen-peacemakergemeinschaft.de/wp-content/uploads/2023/10/Watch-Now.jpg
END:VEVENT
BEGIN:VEVENT
DTSTART;TZID=Europe/Berlin:20260417T203000
DTEND;TZID=Europe/Berlin:20260422T220000
DTSTAMP:20260419T210006
CREATED:20260216T185157Z
LAST-MODIFIED:20260217T164645Z
UID:3448-1776457800-1776895200@zen-peacemakergemeinschaft.de
SUMMARY:EARTHing - ERDEn: Tage der Kontemplation und Aktion
DESCRIPTION:Dieses Jahr wieder: Auf den internationalen Tag der Erde am 22. April hin gestaltet eine Gruppe von PeacemakerInnen aus Australien\, Brasilien\, Deutschland\, Kanada und den USA virtuelle und auch leibhaftige Räume des ZeugnisAblegens von Schmerz und Schönheit unserer Erde. \nKurze online-Treffen zu Meditation\, Rezitation und Council wechseln sich ab mit ökologischem Hand-Anlegen an den Orten der Teilnehmenden. Am EARTH DAY\, dem 22. April\, runden wir die weltumspannende Erfahrung gemeinsam ab. \nInternational\, darum Sprache: Englisch \nHier ist die Event-Seite der Internationalen Peacemaker zum Anmelden.
URL:https://zen-peacemakergemeinschaft.de/event/earthing-erden-tage-der-kontemplation-und-aktion/
LOCATION:virtuell
CATEGORIES:ÖkoSattva,ZeugnisAblegen-Events
ATTACH;FMTTYPE=image/jpeg:https://zen-peacemakergemeinschaft.de/wp-content/uploads/2026/02/dharmaoftrees_earthed-arm_small.jpeg
END:VEVENT
BEGIN:VEVENT
DTSTART;TZID=Europe/Berlin:20260917T190000
DTEND;TZID=Europe/Berlin:20261217T210000
DTSTAMP:20260419T210006
CREATED:20260216T134230Z
LAST-MODIFIED:20260216T134230Z
UID:3444-1789671600-1797541200@zen-peacemakergemeinschaft.de
SUMMARY:Online-Kursreihe "Sieben Friedens-Lektionen - Neurosensitive Achtsamkeit als Friedensübung"\, 17.09.-17.12.2026
DESCRIPTION:8-teilige Kursreihe mit Dorle Lommatzsch und Reiner Seido Hühner\, online über Zoom an der Buddhistischen Akademie Berlin-Brandenburg\nMit großer Freude sehen wir\, Dorle und ich\, dem 3. Durchgang des Online-Kurses „Sieben Friedens-Lektionen – Neurosensitive Achtsamkeit als Friedensübung“ entgegen.\nDie ersten Reihen im Frühjahr 2024 und 2025 haben eine unerwartet positive Resonanz hervorgerufen\, so dass wir uns im Einvernehmen mit der Akademie entschieden haben\, die Kurseihe nochmals in die Welt zu bringen. \n \nInformationen und Anmeldung über die Webseite der Buddhistischen Akademie Berlin-Brandenburg
URL:https://zen-peacemakergemeinschaft.de/event/online-kursreihe-sieben-friedens-lektionen-neurosensitive-achtsamkeit-als-friedensuebung-17-09-17-12-2026/
LOCATION:Zoom
CATEGORIES:Friedens-Übung,Meditationen,Studium,Themenbezogenes Event
ATTACH;FMTTYPE=image/jpeg:https://zen-peacemakergemeinschaft.de/wp-content/uploads/2024/11/Titelblatt-Deutsch-7-Friedenslektionen-scaled.jpg
ORGANIZER;CN="Dorle Lommatzsch und Reiner H%C3%BChner":MAILTO:reiner.seido@posteo.de
END:VEVENT
END:VCALENDAR